Workbook
Name score: #REF!

Sheet Alle_Vragen
D2: score | F2: Legende | G2: input veld
B3: Beleid | D3: 0-5 | G3: berekend veld
C4: Bedrijfscontinuïteitsmanagement vormt een onderdeel van het dagelijkse bestuur. (Staat het op de agenda van de Directieraad?) | F4: Score | G4: Omschrijving
C5: De resultaten van de Business Impact Analyse zijn formeel goedgekeurd door het management van de entiteit | F5: 0 | G5: Volledig oneens
C6: De resultaten van de risicoanalyse zijn formeel goedgekeurd door het management van de entiteit. | F6: 1 | G6: Oneens
C7: De resultaten van de business impact analyse en de risicoanalyse bepalen mee de strategie(ën) | F7: 2 | G7: Eerder oneens
C8: De status van de initiatieven rond continuïteitsbeheer wordt gerapporteerd aan de leidend ambtenaar of zijn gedelegeerde. | F8: 3 | G8: Eerder eens
C9: In mijn organisatie is BCM geïntegreerd in de (globale) bedrijfsvoering. | D9: =SUM(D4:D8)/5 -> 0 | F9: 4 | G9: Eens
C10: Er is een verantwoordelijke (proceseigenaar) voor het proces bedrijfscontinuïteitsmanagement aangesteld. | F10: 5 | G10: Volledig eens
C11: Er is een verantwoordelijke aangesteld voor het herstel van de kritieke ICT-systemen (Disaster Recovery Planning van de ICT-infrastructuur).
C12: Het management heeft een engagement uitgeschreven en ondertekend
C13: Mijn organisatie heeft een BCM-beleid ontwikkeld. | D13: =SUM(D10:D12)/3 -> 0
C14: De doelstellingen van de organisatie zijn duidelijk afgelijnd en gedocumenteerd.
C15: De andere entiteiten van de Vlaamse overheid die betrokken zijn bij het realiseren van de entiteitsdoelstellingen zijn geïdentificeerd en gedocumenteerd.
C16: De externe partijen, zoals externe dienstverleners die betrokken zijn bij het realiseren van de doelstellingen van de entiteit zijn geïdentificeerd en gedocumenteerd.
C17: Het BCM-beleid van mijn organisatie houdt rekening met de context, de missie, de visie en de strategie van de organisatie. | D17: =SUM(D14:D16)/3 -> 0
C18: Er is een actielijst
C19: Er is een werkgroep die BCM acties opvolgt
C20: Mijn organisatie engageert zich om het BCM-beleid om te zetten in concrete acties. | D20: =SUM(D18:D19)/2 -> 0
C21: De medewerkers krijgen terugkoppeling over BCM.
C22: Er is een woordvoerder aangeduid
C23: Er wordt opleiding voor crisiscommunicatie voorzien
C24: In het BCM-beleid van mijn organisatie is het aspect communicatie opgenomen. | D24: =SUM(D21:D23)/3 -> 0
B26: BIA
C27: Er is een inschatting gemaakt van de risico's waaraan de processen van mijn organisatie onderhevig zijn. (Kans, impact, prioriteit)
C28: Er is een inschatting gemaakt van de risico's waaraan de projecten van mijn organisatie onderhevig zijn. (Kans, impact, prioriteit)
C29: Er is een inschatting gemaakt van de risico's waaraan de doelstellingen van mijn organisatie onderhevig zijn. (Kans, impact, prioriteit)
C30: Deze inschatting is gebeurd in samenspraak met de (proces)eigenaars.
C31: De afhankelijkheden (andere processen, mensen, middelen,…) van de processen zijn in kaart gebracht.
C32: De afhankelijkheden (andere processen, mensen, middelen,…) van de projecten zijn in kaart gebracht.
C33: De afhankelijkheden (andere processen, mensen, middelen,…) van de doelstellingen zijn in kaart gebracht.
C34: De Recovery Time Objective (RTO) is bepaald. (Hersteltijd)
C35: De Recovery Point Objective (RPO) is bepaald. (Maximaal toegestaan verlies)
C36: De kritieke (zowel tijdskritiek als missiekritiek) processen zijn in kaart gebracht en actueel.
C37: De essentiële processen zijn in kaart gebracht en actueel.
C38: De noodzakelijke processen zijn in kaart gebracht en actueel.
B40: Strategie en BCP
C41: Voor elk tijdskritiek proces heeft mijn organisatie een strategische keuze bepaald. (niets doen, risico verlagen, risico uitbesteden, stoppen met het process/het project/de doelstelling…)
C42: Voor elk tijdskritiek proces heeft mijn organisatie bepaald tot op welk niveau het proces moet hersteld worden binnen de continuïteitsfase.
C43: Er zijn procedures uitgewerkt en gedocumenteerd om de kritieke bedrijfsactiviteiten binnen de noodzakelijke tijdsspanne te herstellen
C44: In de herstelprocedures is aandacht besteed aan de samenwerking met andere entiteiten van de Vlaamse Administratie waarvan de organisatie afhankelijk is
C45: In de herstelprocedures is aandacht besteed aan de contractuele bepalingen met externe organisaties
C46: Er zijn procedures uitgewerkt en gedocumenteerd om de benodigde ICT-infrastructuur binnen de noodzakelijke tijdsspanne te herstellen (Disaster Recovery Plans)
C47: Kopieën van continuïteitsplannen worden bewaard op een andere veilige locatie die ver genoeg verwijderd is van de hoofdlocatie zodat een bedreiging of ramp daar geen impact kan hebben.
C48: Mijn organisatie heeft een Business Continuity Plan (BCP) opgemaakt. | D48: =SUM(D43:D47)/5 -> 0
C49: Mijn organisatie beschikt over een Crisis Management Team (CMT) (incl. vervangers).
C50: Mijn organisatie beschikt over een Crisis Communicatie Team (CCT) (incl. vervangers).
C51: In het BCP is een activatieschema opgenomen.
C52: Mijn organisatie heeft een Crisis Communicatie Plan (CCP) opgemaakt.
C53: In het CCP is een belboom opgenomen.
B55: Oefen en test
C56: De geïmplementeerde continuïteitsplannen werden reeds een eerste maal getest
C57: De geïmplementeerde continuïteitsplannen worden op regelmatige basis getest (de voorbije 12 maanden)
C58: Er bestaat een schema dat aangeeft hoe en wanneer ieder element van de continuïteitsplannen getest moet worden
C59: Mijn organisatie heeft de voorbije 12 maanden het BCP getest. | D59: =SUM(D56:D58)/3 -> 0
C60: Mijn organsatie heeft uit deze testen lessen getrokken.
C61: Het BCP is de voorbije 12 maanden geactualiseerd.
C62: De BIA is de voorbije 12 maanden geactualiseerd.
C63: Het Risico Assessment (RA) is de voorbije 12 maanden geactualiseerd.
C64: De contactgegevens in het BCP zijn de voorbije 12 maand geactualiseerd.
C65: De belboom werd de voorbije 12 maanden getest .
C66: Alle primaire betrokkenen bij de bedrijfscontinuïteitsplannen zijn op de hoogte van hun verantwoordelijkheden.
C67: Alle primaire betrokkenen hebben een opleiding genoten over het continuïteitsbeleid en de visie hierop.
C68: Alle medewerkers die een taak hebben binnen de kritieke bedrijfsprocessen, zijn op de hoogte van de continuïteitsplannen.
C69: Mijn organisatie heeft acties ondernomen om het risicobewustzijn te verhogen. | D69: =SUM(D66:D68)/3 -> 0
B71: Pas aan
C72: Mijn organisatie heeft acties ondernomen na een oefening.
C73: Mijn organisatie heeft acties ondernomen na een activatie van het CMT en CCT.
C74: Mijn organisatie heeft de documentatie van het BCP aangepast op basis van oefeningen of activatie van het CMT en CCT.

Sheet Chart
D2: zus | E2: Score (0-100)
C3: =Beleid!B8 -> Beleid | D3: 100 | E3: =Beleid!D8 -> 0
C4: ='BusinessImpactAnalyse (BIA)'!B15 -> BIA | D4: 100 | E4: ='BusinessImpactAnalyse (BIA)'!D15 -> 0
C5: ='Strategie en BCP'!B11 -> Strategie en BCP | D5: 100 | E5: ='Strategie en BCP'!D11 -> 0
C6: ='Oefen en test'!$B$11 -> Oefen en test | D6: 100 | E6: ='Oefen en test'!$D$11 -> 0
C7: ='Pas aan'!B7 -> Pas aan | D7: 100 | E7: ='Pas aan'!D7 -> 0

Sheet Beleid
C1: zus | D1: score (0-5)
A2: 1 | B2: =Alle_Vragen!C9 -> In mijn organisatie is BCM geïntegreerd in de (globale) bedrijfsvoering. | C2: 5 | D2: =Alle_Vragen!D9 -> 0
A3: 2 | B3: =Alle_Vragen!C13 -> Mijn organisatie heeft een BCM-beleid ontwikkeld. | C3: 5 | D3: =Alle_Vragen!D13 -> 0
A4: 3 | B4: =Alle_Vragen!C17 -> Het BCM-beleid van mijn organisatie houdt rekening met de context, de missie, de visie en de strategie van de organisatie. | C4: 5 | D4: =Alle_Vragen!D17 -> 0
A5: 4 | B5: =Alle_Vragen!C20 -> Mijn organisatie engageert zich om het BCM-beleid om te zetten in concrete acties. | C5: 5 | D5: =Alle_Vragen!D20 -> 0
A6: 5 | B6: =Alle_Vragen!C24 -> In het BCM-beleid van mijn organisatie is het aspect communicatie opgenomen. | C6: 5 | D6: =Alle_Vragen!D24 -> 0
B8: Beleid | D8: =SUM(D2:D6)*100/25 -> 0
F11: Score | G11: Omschrijving
F12: 0 | G12: Volledig oneens
F13: 1 | G13: Oneens
F14: 2 | G14: Eerder oneens
F15: 3 | G15: Eerder eens
F16: 4 | G16: Eens
F17: 5 | G17: Volledig eens

Sheet BusinessImpactAnalyse (BIA)
C1: zus | D1: score (0-5)
A2: 6 | B2: =Alle_Vragen!C27 -> Er is een inschatting gemaakt van de risico's waaraan de processen van mijn organisatie onderhevig zijn. (Kans, impact, prioriteit) | C2: 5 | D2: =Alle_Vragen!D27 -> 0
A3: 7 | B3: =Alle_Vragen!C28 -> Er is een inschatting gemaakt van de risico's waaraan de projecten van mijn organisatie onderhevig zijn. (Kans, impact, prioriteit) | C3: 5 | D3: =Alle_Vragen!D28 -> 0 | G3: Score | H3: Omschrijving
A4: 8 | B4: =Alle_Vragen!C29 -> Er is een inschatting gemaakt van de risico's waaraan de doelstellingen van mijn organisatie onderhevig zijn. (Kans, impact, prioriteit) | C4: 5 | D4: =Alle_Vragen!D29 -> 0 | G4: 0 | H4: Volledig oneens
A5: 9 | B5: =Alle_Vragen!C30 -> Deze inschatting is gebeurd in samenspraak met de (proces)eigenaars. | C5: 5 | D5: =Alle_Vragen!D30 -> 0 | G5: 1 | H5: Oneens
A6: 10 | B6: =Alle_Vragen!C31 -> De afhankelijkheden (andere processen, mensen, middelen,…) van de processen zijn in kaart gebracht. | C6: 5 | D6: =Alle_Vragen!D31 -> 0 | G6: 2 | H6: Eerder oneens
A7: 11 | B7: =Alle_Vragen!C32 -> De afhankelijkheden (andere processen, mensen, middelen,…) van de projecten zijn in kaart gebracht. | C7: 5 | D7: =Alle_Vragen!D32 -> 0 | G7: 3 | H7: Eerder eens
A8: 12 | B8: =Alle_Vragen!C33 -> De afhankelijkheden (andere processen, mensen, middelen,…) van de doelstellingen zijn in kaart gebracht. | C8: 5 | D8: =Alle_Vragen!D33 -> 0 | G8: 4 | H8: Eens
A9: 13 | B9: =Alle_Vragen!C34 -> De Recovery Time Objective (RTO) is bepaald. (Hersteltijd) | C9: 5 | D9: =Alle_Vragen!D34 -> 0 | G9: 5 | H9: Volledig eens
A10: 14 | B10: =Alle_Vragen!C35 -> De Recovery Point Objective (RPO) is bepaald. (Maximaal toegestaan verlies) | C10: 5 | D10: =Alle_Vragen!D35 -> 0
A11: 15 | B11: =Alle_Vragen!C36 -> De kritieke (zowel tijdskritiek als missiekritiek) processen zijn in kaart gebracht en actueel. | C11: 5 | D11: =Alle_Vragen!D36 -> 0
A12: 16 | B12: =Alle_Vragen!C37 -> De essentiële processen zijn in kaart gebracht en actueel. | C12: 5 | D12: =Alle_Vragen!D37 -> 0
A13: 17 | B13: =Alle_Vragen!C38 -> De noodzakelijke processen zijn in kaart gebracht en actueel. | C13: 5 | D13: =Alle_Vragen!D38 -> 0
B15: BIA | D15: =SUM(D2:D13)*100/60 -> 0

Sheet Strategie en BCP
C1: zus | D1: Score (0-5)
A2: 18 | B2: =Alle_Vragen!C41 -> Voor elk tijdskritiek proces heeft mijn organisatie een strategische keuze bepaald. (niets doen, risico verlagen, risico uitbesteden, stoppen met het process/het project/de doelstelling…) | C2: 5 | D2: =Alle_Vragen!D41 -> 0 | F2: Score | G2: Omschrijving
A3: 19 | B3: =Alle_Vragen!C42 -> Voor elk tijdskritiek proces heeft mijn organisatie bepaald tot op welk niveau het proces moet hersteld worden binnen de continuïteitsfase. | C3: 5 | D3: =Alle_Vragen!D42 -> 0 | F3: 0 | G3: Volledig oneens
A4: 20 | B4: =Alle_Vragen!C48 -> Mijn organisatie heeft een Business Continuity Plan (BCP) opgemaakt. | C4: 5 | D4: =Alle_Vragen!D48 -> 0 | F4: 1 | G4: Oneens
A5: 21 | B5: =Alle_Vragen!C49 -> Mijn organisatie beschikt over een Crisis Management Team (CMT) (incl. vervangers). | C5: 5 | D5: =Alle_Vragen!D49 -> 0 | F5: 2 | G5: Eerder oneens
A6: 22 | B6: =Alle_Vragen!C50 -> Mijn organisatie beschikt over een Crisis Communicatie Team (CCT) (incl. vervangers). | C6: 5 | D6: =Alle_Vragen!D50 -> 0 | F6: 3 | G6: Eerder eens
A7: 23 | B7: =Alle_Vragen!C51 -> In het BCP is een activatieschema opgenomen. | C7: 5 | D7: =Alle_Vragen!D51 -> 0 | F7: 4 | G7: Eens
A8: 24 | B8: =Alle_Vragen!C52 -> Mijn organisatie heeft een Crisis Communicatie Plan (CCP) opgemaakt. | C8: 5 | D8: =Alle_Vragen!D52 -> 0 | F8: 5 | G8: Volledig eens
A9: 25 | B9: =Alle_Vragen!C53 -> In het CCP is een belboom opgenomen. | C9: 5 | D9: =Alle_Vragen!D53 -> 0
B11: Strategie en BCP | D11: =SUM(D2:D9)*100/40 -> 0

Sheet Oefen en test
C1: zus | D1: score (0-5)
A2: 26 | B2: =Alle_Vragen!C59 -> Mijn organisatie heeft de voorbije 12 maanden het BCP getest. | C2: 5 | D2: =Alle_Vragen!D59 -> 0 | H2: Score | I2: Omschrijving
A3: 27 | B3: =Alle_Vragen!C60 -> Mijn organsatie heeft uit deze testen lessen getrokken. | C3: 5 | D3: =Alle_Vragen!D60 -> 0 | H3: 0 | I3: Volledig oneens
A4: 28 | B4: =Alle_Vragen!C61 -> Het BCP is de voorbije 12 maanden geactualiseerd. | C4: 5 | D4: =Alle_Vragen!D61 -> 0 | H4: 1 | I4: Oneens
A5: 29 | B5: =Alle_Vragen!C62 -> De BIA is de voorbije 12 maanden geactualiseerd. | C5: 5 | D5: =Alle_Vragen!D62 -> 0 | H5: 2 | I5: Eerder oneens
A6: 30 | B6: =Alle_Vragen!C63 -> Het Risico Assessment (RA) is de voorbije 12 maanden geactualiseerd. | C6: 5 | D6: =Alle_Vragen!D63 -> 0 | H6: 3 | I6: Eerder eens
A7: 31 | B7: =Alle_Vragen!C64 -> De contactgegevens in het BCP zijn de voorbije 12 maand geactualiseerd. | C7: 5 | D7: =Alle_Vragen!D64 -> 0 | H7: 4 | I7: Eens
A8: 32 | B8: =Alle_Vragen!C65 -> De belboom werd de voorbije 12 maanden getest . | C8: 5 | D8: =Alle_Vragen!D65 -> 0 | H8: 5 | I8: Volledig eens
A9: 33 | B9: =Alle_Vragen!C69 -> Mijn organisatie heeft acties ondernomen om het risicobewustzijn te verhogen. | C9: 5 | D9: =Alle_Vragen!D69 -> 0
B11: Oefen en test | D11: =SUM(D2:D9)*100/40 -> 0

Sheet Pas aan
C1: zus | D1: Score (0-5)
A2: 34 | B2: =Alle_Vragen!C72 -> Mijn organisatie heeft acties ondernomen na een oefening. | C2: 5 | D2: =Alle_Vragen!D72 -> 0 | F2: Score | G2: Omschrijving
A3: 35 | B3: =Alle_Vragen!C73 -> Mijn organisatie heeft acties ondernomen na een activatie van het CMT en CCT. | C3: 5 | D3: =Alle_Vragen!D73 -> 0 | F3: 0 | G3: Volledig oneens
A4: 36 | B4: =Alle_Vragen!C74 -> Mijn organisatie heeft de documentatie van het BCP aangepast op basis van oefeningen of activatie van het CMT en CCT. | C4: 5 | D4: =Alle_Vragen!D74 -> 0 | F4: 1 | G4: Oneens
F5: 2 | G5: Eerder oneens
F6: 3 | G6: Eerder eens
B7: Pas aan | D7: =SUM(D2:D4)*100/15 -> 0 | F7: 4 | G7: Eens
F8: 5 | G8: Volledig eens
