Workbook
Name score: #REF!

Sheet All_Questions
D2: score | F2: Legend | G2: input field
B3: Policy | D3: 0-5 | G3: calculated field
C4: BCM is part of daily management, it is on the board's agenda. | F4: score | G4: Description
C5: The results of the BIA (Business Impact Analysis) are formally approved by the board. | F5: 0 | G5: completely disagree
C6: The results of the Risk Analysis (RA) are formally approved by the board. | F6: 1 | G6: disagree
C7: The results of the BIA and the RA are used as input for strategy. | F7: 2 | G7: rather disagree
C8: The status of the initiatives of continuity management are reported to the CEO or his delegate. | F8: 3 | G8: rather agree
C9: In my organisation, BCM is integrated in the (global) management. | D9: =SUM(D4:D8)/5 -> 0 | F9: 4 | G9: agree
C10: A responsible (process owner) for the process of BCM has been appointed. | F10: 5 | G10: completely agree
C11: A responsible (process owner) for the process of the recovery of critical ICT Systems has been appointed. (DRP of the ICT Infrastructure)
C12: There is an approved management engagement.
C13: My organisation has developed a BCM policy. | D13: =SUM(D10:D12)/3 -> 0
C14: The goals of the organisation are clearly determined and documented.
C15: The other departments involved in realising the goals of the organisation are identified and documented.
C16: The external parties, such as external services, involved in realising the goals of the entity are identified and documented.
C17: The BCM policy integrates the context, mission, vision and strategy of the organisation. | D17: =SUM(D14:D16)/3 -> 0
C18: There is an action list.
C19: There is a working group responsible for the follow up of the BCM actions.
C20: My organisation is committed to turn the BCM policy into actions. | D20: =SUM(D18:D19)/2 -> 0
C21: The employees are informed about BCM.
C22: A spokesman has been appointed.
C23: A training for crisis communication has been provided.
C24: In the BCM policy of my organisation, the aspect communication is included. | D24: =SUM(D21:D23)/3 -> 0
B26: BIA
C27: The risks of the processes in my organisation have been assessed (Probability, Consequences, Priority).
C28: The risks of the projects of my organisation have been assessed (Probability, Consequences, Priority).
C29: The risks of the objectives of my organisation have been assessed (Probability, Consequences, Priority).
C30: This assessment has been done together with the (process) owners.
C31: The dependencies (other processes, people, assets, resources,…) of the processes of my organisation have been mapped.
C32: The dependencies (other processes, people, assets, resources,…) of the projects of my organisation have been mapped.
C33: The dependencies (other processes, people, assets, resources,…) of the objectives of my organisation have been mapped.
C34: The RTOs (Recovery Time Objectives) have been determined.
C35: The RPOs (Recovery Point Objectives) have been determined.
C36: The critical processes have been mapped and are up-to-date.
C37: The essential processes have been mapped and are up-to-date.
C38: The necessary processes have been mapped and are up-to-date.
B40: Strategy and BCP
C41: My organisation has determined a strategy for the critical processes/projects/objectives (Do nothing, mitigate, share, quit the process/project/Objective).
C42: My organisation has determined the recovery level within the continuity phase for the critical processes.
C43: There are documented procedures for recovering the critical activities of the organisation within the necessary time span.
C44: In the recovery procedures, attention has been given to collaboration with other organisations of which the organisation is dependent.
C45: In the recovery procedures, attention has been given to contractual terms with other organisations.
C46: There are elaborated, documented procedures for recovery of the necessary ICT systems within the necessary time span (DRP).
C47: Copies of continuity plans are being stored in another location at a safe distance to exclude every impact of a threat or disaster at the main location.
C48: My organisation has elaborated a BCP. | D48: =SUM(D43:D47)/5 -> 0
C49: My organisation has a Crisis Management Team (CMT) (incl. back-ups).
C50: My organisation has a Crisis Communication Team (CCT) (incl. back-ups).
C51: The BCP has an activation scheme.
C52: My organisation has elaborated a Crisis communication plan (CCP).
C53: The CCP has an activation scheme.
B55: excersice and test
C56: The implemented continuity plans have been tested a first time.
C57: The implemented continuity plans are being tested regularly. (within the last 12 months)
C58: There is a scheme that states how and when every element of the continuity plans must be tested.
C59: My organisation has tested the BCP within the last 12 months. | D59: =SUM(D56:D58)/3 -> 0
C60: My organisation has identified lessons from these tests.
C61: The BCP has been updated within the last 12 months.
C62: The BIA has been updated within the last 12 months.
C63: The RA (Risk assessment) has been updated within the last 12 months.
C64: The contact list in the BCP has been updated within the last 12 months.
C65: The activation scheme has been tested within the last 12 months.
C66: All key personnel of the BCPs are aware of their responsibilities.
C67: All key personnel of the BCPs have had training about the BCPs and the vision of the organisation about the BCPs.
C68: All personnel with a task in the critical processes, are aware of the BCP's.
C69: My organisation has taken actions to increase risk awareness. | D69: =SUM(D66:D68)/3 -> 0
B71: Adapt
C72: My organisation has taken action based on the lessons identified after an exercise.
C73: My organisation has taken action based on the lessons identified after an activation of the CMT and CCT.
C74: My organisation has updated the BCPs, DRPs and CCPs based on lessons identified after an exercise or activation of the CMT and CCT.

Sheet Chart
D2: zus | E2: Score (0-100)
C3: =Policy!B8 -> Policy | D3: 100 | E3: =Policy!D8 -> 0
C4: ='BusinessImpactAnalysis (BIA)'!B15 -> BIA | D4: 100 | E4: ='BusinessImpactAnalysis (BIA)'!D15 -> 0
C5: ='Strategy and BCP'!B11 -> Strategy and BCP | D5: 100 | E5: ='Strategy and BCP'!D11 -> 0
C6: ='Excersice and test'!$B$11 -> Excersice and test | D6: 100 | E6: ='Excersice and test'!$D$11 -> 0
C7: =Adjust!B7 -> Adjust | D7: 100 | E7: =Adjust!D7 -> 0

Sheet Policy
C1: zus | D1: score (0-5)
A2: 1 | B2: =All_Questions!C9 -> In my organisation, BCM is integrated in the (global) management. | C2: 5 | D2: =All_Questions!D9 -> 0
A3: 2 | B3: =All_Questions!C13 -> My organisation has developed a BCM policy. | C3: 5 | D3: =All_Questions!D13 -> 0
A4: 3 | B4: =All_Questions!C17 -> The BCM policy integrates the context, mission, vision and strategy of the organisation. | C4: 5 | D4: =All_Questions!D17 -> 0
A5: 4 | B5: =All_Questions!C20 -> My organisation is committed to turn the BCM policy into actions. | C5: 5 | D5: =All_Questions!D20 -> 0
A6: 5 | B6: =All_Questions!C24 -> In the BCM policy of my organisation, the aspect communication is included. | C6: 5 | D6: =All_Questions!D24 -> 0
B8: Policy | D8: =SUM(D2:D6)*100/25 -> 0
F11: score | G11: Description
F12: 0 | G12: completely disagree
F13: 1 | G13: disagree
F14: 2 | G14: rather disagree
F15: 3 | G15: rather agree
F16: 4 | G16: agree
F17: 5 | G17: completely agree

Sheet BusinessImpactAnalysis (BIA)
C1: zus | D1: score (0-5)
A2: 6 | B2: =All_Questions!C27 -> The risks of the processes in my organisation have been assessed (Probability, Consequences, Priority). | C2: 5 | D2: =All_Questions!D27 -> 0
A3: 7 | B3: =All_Questions!C28 -> The risks of the projects of my organisation have been assessed (Probability, Consequences, Priority). | C3: 5 | D3: =All_Questions!D28 -> 0 | G3: score | H3: Description
A4: 8 | B4: =All_Questions!C29 -> The risks of the objectives of my organisation have been assessed (Probability, Consequences, Priority). | C4: 5 | D4: =All_Questions!D29 -> 0 | G4: 0 | H4: completely disagree
A5: 9 | B5: =All_Questions!C30 -> This assessment has been done together with the (process) owners. | C5: 5 | D5: =All_Questions!D30 -> 0 | G5: 1 | H5: disagree
A6: 10 | B6: =All_Questions!C31 -> The dependencies (other processes, people, assets, resources,…) of the processes of my organisation have been mapped. | C6: 5 | D6: =All_Questions!D31 -> 0 | G6: 2 | H6: rather disagree
A7: 11 | B7: =All_Questions!C32 -> The dependencies (other processes, people, assets, resources,…) of the projects of my organisation have been mapped. | C7: 5 | D7: =All_Questions!D32 -> 0 | G7: 3 | H7: rather agree
A8: 12 | B8: =All_Questions!C33 -> The dependencies (other processes, people, assets, resources,…) of the objectives of my organisation have been mapped. | C8: 5 | D8: =All_Questions!D33 -> 0 | G8: 4 | H8: agree
A9: 13 | B9: =All_Questions!C34 -> The RTOs (Recovery Time Objectives) have been determined. | C9: 5 | D9: =All_Questions!D34 -> 0 | G9: 5 | H9: completely agree
A10: 14 | B10: =All_Questions!C35 -> The RPOs (Recovery Point Objectives) have been determined. | C10: 5 | D10: =All_Questions!D35 -> 0
A11: 15 | B11: =All_Questions!C36 -> The critical processes have been mapped and are up-to-date. | C11: 5 | D11: =All_Questions!D36 -> 0
A12: 16 | B12: =All_Questions!C37 -> The essential processes have been mapped and are up-to-date. | C12: 5 | D12: =All_Questions!D37 -> 0
A13: 17 | B13: =All_Questions!C38 -> The necessary processes have been mapped and are up-to-date. | C13: 5 | D13: =All_Questions!D38 -> 0
B15: BIA | D15: =SUM(D2:D13)*100/60 -> 0

Sheet Strategy and BCP
C1: zus | D1: Score (0-5)
A2: 18 | B2: =All_Questions!C41 -> My organisation has determined a strategy for the critical processes/projects/objectives (Do nothing, mitigate, share, quit the process/project/Objective). | C2: 5 | D2: =All_Questions!D41 -> 0 | F2: score | G2: Description
A3: 19 | B3: =All_Questions!C42 -> My organisation has determined the recovery level within the continuity phase for the critical processes. | C3: 5 | D3: =All_Questions!D42 -> 0 | F3: 0 | G3: completely disagree
A4: 20 | B4: =All_Questions!C48 -> My organisation has elaborated a BCP. | C4: 5 | D4: =All_Questions!D48 -> 0 | F4: 1 | G4: disagree
A5: 21 | B5: =All_Questions!C49 -> My organisation has a Crisis Management Team (CMT) (incl. back-ups). | C5: 5 | D5: =All_Questions!D49 -> 0 | F5: 2 | G5: rather disagree
A6: 22 | B6: =All_Questions!C50 -> My organisation has a Crisis Communication Team (CCT) (incl. back-ups). | C6: 5 | D6: =All_Questions!D50 -> 0 | F6: 3 | G6: rather agree
A7: 23 | B7: =All_Questions!C51 -> The BCP has an activation scheme. | C7: 5 | D7: =All_Questions!D51 -> 0 | F7: 4 | G7: agree
A8: 24 | B8: =All_Questions!C52 -> My organisation has elaborated a Crisis communication plan (CCP). | C8: 5 | D8: =All_Questions!D52 -> 0 | F8: 5 | G8: completely agree
A9: 25 | B9: =All_Questions!C53 -> The CCP has an activation scheme. | C9: 5 | D9: =All_Questions!D53 -> 0
B11: Strategy and BCP | D11: =SUM(D2:D9)*100/40 -> 0

Sheet Excersice and test
C1: zus | D1: score (0-5)
A2: 26 | B2: =All_Questions!C59 -> My organisation has tested the BCP within the last 12 months. | C2: 5 | D2: =All_Questions!D59 -> 0 | H2: score | I2: Description
A3: 27 | B3: =All_Questions!C60 -> My organisation has identified lessons from these tests. | C3: 5 | D3: =All_Questions!D60 -> 0 | H3: 0 | I3: completely disagree
A4: 28 | B4: =All_Questions!C61 -> The BCP has been updated within the last 12 months. | C4: 5 | D4: =All_Questions!D61 -> 0 | H4: 1 | I4: disagree
A5: 29 | B5: =All_Questions!C62 -> The BIA has been updated within the last 12 months. | C5: 5 | D5: =All_Questions!D62 -> 0 | H5: 2 | I5: rather disagree
A6: 30 | B6: =All_Questions!C63 -> The RA (Risk assessment) has been updated within the last 12 months. | C6: 5 | D6: =All_Questions!D63 -> 0 | H6: 3 | I6: rather agree
A7: 31 | B7: =All_Questions!C64 -> The contact list in the BCP has been updated within the last 12 months. | C7: 5 | D7: =All_Questions!D64 -> 0 | H7: 4 | I7: agree
A8: 32 | B8: =All_Questions!C65 -> The activation scheme has been tested within the last 12 months. | C8: 5 | D8: =All_Questions!D65 -> 0 | H8: 5 | I8: completely agree
A9: 33 | B9: =All_Questions!C69 -> My organisation has taken actions to increase risk awareness. | C9: 5 | D9: =All_Questions!D69 -> 0
B11: Excersice and test | D11: =SUM(D2:D9)*100/40 -> 0

Sheet Adjust
C1: zus | D1: Score (0-5)
A2: 34 | B2: =All_Questions!C72 -> My organisation has taken action based on the lessons identified after an exercise. | C2: 5 | D2: =All_Questions!D72 -> 0 | F2: score | G2: Description
A3: 35 | B3: =All_Questions!C73 -> My organisation has taken action based on the lessons identified after an activation of the CMT and CCT. | C3: 5 | D3: =All_Questions!D73 -> 0 | F3: 0 | G3: completely disagree
A4: 36 | B4: =All_Questions!C74 -> My organisation has updated the BCPs, DRPs and CCPs based on lessons identified after an exercise or activation of the CMT and CCT. | C4: 5 | D4: =All_Questions!D74 -> 0 | F4: 1 | G4: disagree
F5: 2 | G5: rather disagree
F6: 3 | G6: rather agree
B7: Adjust | D7: =SUM(D2:D4)*100/15 -> 0 | F7: 4 | G7: agree
F8: 5 | G8: completely agree
